BEGIN:VCALENDAR
VERSION:2.0
PRODID:-//THEODORE PARKER CHURCH - ECPv6.15.20//NONSGML v1.0//EN
CALSCALE:GREGORIAN
METHOD:PUBLISH
X-ORIGINAL-URL:https://www.tparkerchurch.org
X-WR-CALDESC:Events for THEODORE PARKER CHURCH
REFRESH-INTERVAL;VALUE=DURATION:PT1H
X-Robots-Tag:noindex
X-PUBLISHED-TTL:PT1H
BEGIN:VTIMEZONE
TZID:America/New_York
BEGIN:DAYLIGHT
TZOFFSETFROM:-0500
TZOFFSETTO:-0400
TZNAME:EDT
DTSTART:20250309T070000
END:DAYLIGHT
BEGIN:STANDARD
TZOFFSETFROM:-0400
TZOFFSETTO:-0500
TZNAME:EST
DTSTART:20251102T060000
END:STANDARD
BEGIN:DAYLIGHT
TZOFFSETFROM:-0500
TZOFFSETTO:-0400
TZNAME:EDT
DTSTART:20260308T070000
END:DAYLIGHT
BEGIN:STANDARD
TZOFFSETFROM:-0400
TZOFFSETTO:-0500
TZNAME:EST
DTSTART:20261101T060000
END:STANDARD
BEGIN:DAYLIGHT
TZOFFSETFROM:-0500
TZOFFSETTO:-0400
TZNAME:EDT
DTSTART:20270314T070000
END:DAYLIGHT
BEGIN:STANDARD
TZOFFSETFROM:-0400
TZOFFSETTO:-0500
TZNAME:EST
DTSTART:20271107T060000
END:STANDARD
END:VTIMEZONE
BEGIN:VEVENT
DTSTART;TZID=America/New_York:20260327T180000
DTEND;TZID=America/New_York:20260327T200000
DTSTAMP:20260425T224612
CREATED:20260326T190617Z
LAST-MODIFIED:20260326T190617Z
UID:20866-1774634400-1774641600@www.tparkerchurch.org
SUMMARY:RE Community Game Night
DESCRIPTION:Please join us for this evening of board game fun. Bring your favorite game to share\, or just show up ready to play. While this event is focused on the children and families of our congregation\, folks of all ages are welcome and encouraged to join in. Pizza and drinks will be provided — RSVPs to Rose are welcome!
URL:https://www.tparkerchurch.org/event/re-community-game-night/
LOCATION:Theodore Parker Church parish hall\, 70 Corey St.\, West Roxbury\, Massachusetts\, 02132
CATEGORIES:Church-sponsored activity
ATTACH;FMTTYPE=image/jpeg:https://www.tparkerchurch.org/wp-content/uploads/2025/09/parchesi.jpg
END:VEVENT
END:VCALENDAR