BEGIN:VCALENDAR
VERSION:2.0
PRODID:-//THEODORE PARKER CHURCH - ECPv6.15.20//NONSGML v1.0//EN
CALSCALE:GREGORIAN
METHOD:PUBLISH
X-ORIGINAL-URL:https://www.tparkerchurch.org
X-WR-CALDESC:Events for THEODORE PARKER CHURCH
REFRESH-INTERVAL;VALUE=DURATION:PT1H
X-Robots-Tag:noindex
X-PUBLISHED-TTL:PT1H
BEGIN:VTIMEZONE
TZID:America/New_York
BEGIN:DAYLIGHT
TZOFFSETFROM:-0500
TZOFFSETTO:-0400
TZNAME:EDT
DTSTART:20250309T070000
END:DAYLIGHT
BEGIN:STANDARD
TZOFFSETFROM:-0400
TZOFFSETTO:-0500
TZNAME:EST
DTSTART:20251102T060000
END:STANDARD
BEGIN:DAYLIGHT
TZOFFSETFROM:-0500
TZOFFSETTO:-0400
TZNAME:EDT
DTSTART:20260308T070000
END:DAYLIGHT
BEGIN:STANDARD
TZOFFSETFROM:-0400
TZOFFSETTO:-0500
TZNAME:EST
DTSTART:20261101T060000
END:STANDARD
BEGIN:DAYLIGHT
TZOFFSETFROM:-0500
TZOFFSETTO:-0400
TZNAME:EDT
DTSTART:20270314T070000
END:DAYLIGHT
BEGIN:STANDARD
TZOFFSETFROM:-0400
TZOFFSETTO:-0500
TZNAME:EST
DTSTART:20271107T060000
END:STANDARD
END:VTIMEZONE
BEGIN:VEVENT
DTSTART;TZID=America/New_York:20260516T090000
DTEND;TZID=America/New_York:20260516T130000
DTSTAMP:20260426T003435
CREATED:20250911T220903Z
LAST-MODIFIED:20260410T132142Z
UID:20522-1778922000-1778936400@www.tparkerchurch.org
SUMMARY:Plant Sale
DESCRIPTION:Our annual  Plant Sale returns! \nThe event inside the parish hall features: \n\nPlants from local gardens\nGently used garden tools and books – “Ask a master gardener” table\nHot dogs and homemade baked goods\n\nBring your friends and family – View our beautiful Tiffany windows. \nThe Plant Sale continues on Sunday\, May 17 after the worship service.
URL:https://www.tparkerchurch.org/event/plant-sale-5/
LOCATION:Theodore Parker Church parish hall\, 70 Corey St.\, West Roxbury\, Massachusetts\, 02132
CATEGORIES:Church-sponsored activity,Community event
ATTACH;FMTTYPE=image/jpeg:https://www.tparkerchurch.org/wp-content/uploads/2025/09/IMGL1305.jpeg
END:VEVENT
END:VCALENDAR